Workbook
Name Excel_BuiltIn__FilterDatabase_3: 'Rekapitulace rozpočtu'!$A$2:$E$60
Name Excel_BuiltIn__FilterDatabase_8: #REF!

Sheet Pokyny
A1: Formulář pro vyúčtování dotace MŽP 2026
A4: Formulář obsahuje následující listy:
A5: Tyto pokyny
A6: Úvodní list
A7: Rekapitulace rozpočtu
A8: Závazné indikátory projektu
A9: Seznam dokladů
A12: Důležité upozornění:
A13: Musí být dodržen procentuelní podíl dotace, který je uveden v Rozhodnutí.
A14: V případě, že podíl nedodržíte, bude Vám dotace pokrácena a vy budete muset její část vrátit.
A15: Žádosti o změnu podílu dotace je možné podávat do 30. listopadu 2026.
A18: Pokyny pro vyplnění formuláře:
... A48: S případnými technickými dotazy se prosím obraťte na pracovníky MŽP.

Sheet Úvodní list
B1: Vyúčtování rozhodnutí č.
B3: Název projektu:
B4: Název příjemce:
B5: Adresa:
B6: IČ:
B7: Statutární zástupce:
B8: telefonické spojení, e-mail
B9: Hospodář (zodpovědný účetní):
B10: telefonické spojení, e-mail
B11: Skutečné náklady na projekt celkem: | C11: =SUM('Seznam dokladů'!E4:E500)+'Rekapitulace rozpočtu'!D42 -> 0
B12: Z toho hrazeno z dotace MŽP: | C12: =+'Rekapitulace rozpočtu'!D42 -> 0 | D12: =IF(C12>C16,"Překročena částka dotace!","")
B13: Hrazeno z jiných státních zdrojů:
B14: z jakých
B15: hrazeno z nestátních zdrojů: | C15: =+A45 -> 0
B16: Poskytnutá dotace (MŽP): | C16: =+'Rekapitulace rozpočtu'!C42 -> 0
B17: Maximální možná výše dotace: | C17: =IF(ISERR(IF(C29>=C28,C16,C11*C29)),"",IF(C29>=C28,C16,C11*C29)) -> 0
B18: Vyčerpaná dotace (MŽP): | C18: =IF(C12>=C16,C16,C12) -> 0
B19: K vrácení MŽP zbylo: | C19: =IF(C18>C17,C16-C17,C16-C18) -> 0
B20: Vráceno dne:
B21: Z účtu č.:
B22: Bylo žádáno o změnu rozpočtu:
B23: Změna schválena dne:
B24: Vlastní náklady uvedené v Rozhodnutí
B25: Celkové vlastní náklady - skutečnost | C25: =SUM('Seznam dokladů'!E4:E500) -> 0
B26: % vlastních nákladů v Rozhodnutí | C26: =IF(ISERR(1-C29),"",1-C29)
B27: % vlastních nákladů - skutečnost | C27: =IF(ISERR(1-C28),"",1-C28)
B28: Dosažený podíl dotace na celk. nákladech | C28: =IF(ISERR(C12/C11),"",(C12/C11))
B29: Schválený podíl dotace na celk.nákladech | C29: =IF(ISERR(+C16/(C16+C24)),"",+C16/(C16+C24)) | D29: =IF(AND(ISBLANK(C24),C11<>0),"Není vyplněna hodnota vlastních nákladů uvedených v Rozhodnutí!","")
B30: Naše organizace je plátcem DPH | C30: NE
B32: Přehled financování projektu
B33: Zdroj financování | C33: Částka | D33: Typ zdroje
B34: =CONCATENATE("Dotace MŽP Rozhodnutí č. ",C1) -> Dotace MŽP Rozhodnutí č. | C34: =+C12 -> 0 | D34: Státní dotace
A35: =IF(OR(D35="",D35="Státní dotace"),0,1)*C35 -> 0
A36: =IF(OR(D36="",D36="Státní dotace"),0,1)*C36 -> 0
A37: =IF(OR(D37="",D37="Státní dotace"),0,1)*C37 -> 0
A38: =IF(OR(D38="",D38="Státní dotace"),0,1)*C38 -> 0
A39: =IF(OR(D39="",D39="Státní dotace"),0,1)*C39 -> 0
A40: =IF(OR(D40="",D40="Státní dotace"),0,1)*C40 -> 0
A41: =IF(OR(D41="",D41="Státní dotace"),0,1)*C41 -> 0
A42: =IF(OR(D42="",D42="Státní dotace"),0,1)*C42 -> 0
A43: =IF(OR(D43="",D43="Státní dotace"),0,1)*C43 -> 0
A44: =IF(OR(D44="",D44="Státní dotace"),0,1)*C44 -> 0
A45: =SUM(A35:A44) -> 0 | B45: Celkem | C45: =SUM(C34:C44) -> 0 | D45: =IF(C45<>C11,"Nesoulad zdrojů a nákladů!","")

Sheet Rekapitulace rozpočtu
A1: =+CONCATENATE("Rozhodnutí č. ",'Úvodní list'!C1) -> Rozhodnutí č.
B2: Sumarizace rozpočtu dotace
A4: Kód | B4: Název položky | C4: Schválená dotace | D4: Skutečnost
A5: 1. | B5: Osobní náklady celkem : | C5: =SUM(C6:C8) -> 0 | D5: =SUM(D6:D8) -> 0
A6: 1.1. | B6: Zaměstnanci - mzdové náklady zaměstnavatele včetně zákonných odvodů | D6: =SUMIF('Seznam dokladů'!G$4:G$500,'Seznam dokladů'!M1,'Seznam dokladů'!D$4:D$500) -> 0
A7: 1.2. | B7: Ostatní osobní náklady (DPP) | D7: =SUMIF('Seznam dokladů'!G$4:G$500,'Seznam dokladů'!M2,'Seznam dokladů'!D$4:D$500) -> 0
A9: 2. | B9: Cestovné celkem : | C9: =SUM(C10:C11) -> 0 | D9: =SUM(D10:D11) -> 0
A10: 2.1. | B10: Cestovné | D10: =SUMIF('Seznam dokladů'!G$4:G$500,'Seznam dokladů'!M3,'Seznam dokladů'!D$4:D$500) -> 0
A11: 2.2 | B11: Provoz služebního vozidla | D11: =SUMIF('Seznam dokladů'!G$4:G$500,'Seznam dokladů'!M4,'Seznam dokladů'!D$4:D$500) -> 0
A12: 3. | B12: Nákup materiálu celkem: | C12: =+C13+C14 -> 0 | D12: =D13+D14+D15 -> 0
A13: 3.1. | B13: Materiálové náklady (spotřební materiál atp.) | D13: =SUMIF('Seznam dokladů'!G$4:G$500,'Seznam dokladů'!M5,'Seznam dokladů'!D$4:D$500) -> 0
A14: 3.2. | D14: =SUMIF('Seznam dokladů'!G$4:G$500,'Seznam dokladů'!M6,'Seznam dokladů'!D$4:D$500) -> 0
A15: 4. | B15: Drobný dlouhodobý majetek celkem: | C15: =SUM(C16:C19) -> 0 | D15: =SUM(D16:D19) -> 0
A16: 4.1. | D16: =SUMIF('Seznam dokladů'!G$4:G$500,'Seznam dokladů'!M7,'Seznam dokladů'!D$4:D$500) -> 0
A17: 4.2. | D17: =SUMIF('Seznam dokladů'!G$4:G$500,'Seznam dokladů'!M8,'Seznam dokladů'!D$4:D$500) -> 0
A18: 4.3. | D18: =SUMIF('Seznam dokladů'!G$4:G$500,'Seznam dokladů'!M9,'Seznam dokladů'!D$4:D$500) -> 0
A19: 4.4. | D19: =SUMIF('Seznam dokladů'!G$4:G$500,'Seznam dokladů'!M10,'Seznam dokladů'!D$4:D$500) -> 0
A20: 5. | B20: Služby (subdodávky) celkem: | C20: =SUM(C21:C29) -> 0 | D20: =SUM(D21:D29) -> 0
A21: 5.1. | B21: Účetní služby | D21: =SUMIF('Seznam dokladů'!G$4:G$500,'Seznam dokladů'!M11,'Seznam dokladů'!D$4:D$500) -> 0
A22: 5.2. | B22: Konzultační, poradenské a právní služby | D22: =SUMIF('Seznam dokladů'!G$4:G$500,'Seznam dokladů'!M12,'Seznam dokladů'!D$4:D$500) -> 0
A23: 5.3. | B23: Údržba a aktualizace webových stránek, zpracování dat | D23: =SUMIF('Seznam dokladů'!G$4:G$500,'Seznam dokladů'!M13,'Seznam dokladů'!D$4:D$500) -> 0
A24: 5.4. | B24: Grafické práce, předtisková úprava | D24: =SUMIF('Seznam dokladů'!G$4:G$500,'Seznam dokladů'!M14,'Seznam dokladů'!D$4:D$500) -> 0
A25: 5.5. | B25: Tisk | D25: =SUMIF('Seznam dokladů'!G$4:G$500,'Seznam dokladů'!M15,'Seznam dokladů'!D$4:D$500) -> 0
A26: 5.6. | B26: Školitelé, tlumočníci, autoři textů, korektoři, překladatelé | D26: =SUMIF('Seznam dokladů'!G$4:G$500,'Seznam dokladů'!M16,'Seznam dokladů'!D$4:D$500) -> 0
A27: 5.7. | B27: Distribuce | D27: =SUMIF('Seznam dokladů'!G$4:G$500,'Seznam dokladů'!M17,'Seznam dokladů'!D$4:D$500) -> 0
A28: 5.8. | B28: Pronájem prostor a techniky | D28: =SUMIF('Seznam dokladů'!G$4:G$500,'Seznam dokladů'!M18,'Seznam dokladů'!D$4:D$500) -> 0
B29: Ostatní služby jinde nezařazené | C29: =SUM(C30:C39) -> 0 | D29: =SUM(D30:D39) -> 0
A30: 5.9. | D30: =SUMIF('Seznam dokladů'!G$4:G$500,'Seznam dokladů'!M19,'Seznam dokladů'!D$4:D$500) -> 0
A31: 5.10. | D31: =SUMIF('Seznam dokladů'!G$4:G$500,'Seznam dokladů'!M20,'Seznam dokladů'!D$4:D$500) -> 0
A32: 5.11. | D32: =SUMIF('Seznam dokladů'!G$4:G$500,'Seznam dokladů'!M21,'Seznam dokladů'!D$4:D$500) -> 0
A33: 5.12. | D33: =SUMIF('Seznam dokladů'!G$4:G$500,'Seznam dokladů'!M22,'Seznam dokladů'!D$4:D$500) -> 0
A34: 5.13. | D34: =SUMIF('Seznam dokladů'!G$4:G$500,'Seznam dokladů'!M23,'Seznam dokladů'!D$4:D$500) -> 0
A35: 5.14. | D35: =SUMIF('Seznam dokladů'!G$4:G$500,'Seznam dokladů'!M24,'Seznam dokladů'!D$4:D$500) -> 0
A36: 5.15. | D36: =SUMIF('Seznam dokladů'!G$4:G$500,'Seznam dokladů'!M25,'Seznam dokladů'!D$4:D$500) -> 0
A37: 5.16. | D37: =SUMIF('Seznam dokladů'!G$4:G$500,'Seznam dokladů'!M26,'Seznam dokladů'!D$4:D$500) -> 0
A38: 5.17. | D38: =SUMIF('Seznam dokladů'!G$4:G$500,'Seznam dokladů'!M27,'Seznam dokladů'!D$4:D$500) -> 0
A39: 5.18. | D39: =SUMIF('Seznam dokladů'!G$4:G$500,'Seznam dokladů'!M28,'Seznam dokladů'!D$4:D$500) -> 0
B40: Mezisoučet kapitoly 1-5 | C40: =C5+C9+C12+C20 -> 0 | D40: =D5+D9+D12+D20 -> 0
A41: 6. | B41: Režie | D41: =SUMIF('Seznam dokladů'!G$4:G$500,'Seznam dokladů'!M29,'Seznam dokladů'!D$4:D$500) -> 0
B42: Celkem | C42: =C40+C41 -> 0 | D42: =D40+D41 -> 0

Sheet Závazné indikátory projektu
A1: Rozhodnutí č. | B1: =CONCATENATE('Úvodní list'!C1)
A3: Název indiktárou (z Rozhodnutí) | B3: Měrná jednotka (z Rozhodnutí) | C3: Hodnota závazného indikátoru ( z Rozhodnutí) | D3: Skutečná hodnota (dle skutečného stavu) | E3: Charakteristika výstupu (dle skutečného stavu) | F3: Kde konkrétně je možné dosažený indikátor ověřit? (odkazy na veřejně dostupné dokumenty případně na přílohy závěrečné zprávy) | G3: Přiřazení k indikátoru Programu (z Rozhodnutí) - vyberte ze seznamu
B4: =IF(ISNA(VLOOKUP(G4,N$4:O$23,2,FALSE))," ",VLOOKUP(G4,N$4:O$23,2,FALSE)) | N4: (1) Plocha území přímých provedených péčí o území / prací v terénu - plošná opatření | O4: ha
B5: =IF(ISNA(VLOOKUP(G5,N$4:O$23,2,FALSE))," ",VLOOKUP(G5,N$4:O$23,2,FALSE)) | N5: (2) Počet přímých provedených péčí o území / prací v terénu - bodová opatření | O5: ks
B6: =IF(ISNA(VLOOKUP(G6,N$4:O$23,2,FALSE))," ",VLOOKUP(G6,N$4:O$23,2,FALSE)) | N6: (3) Monitoring biodiverzity - plošný monitoring | O6: ha
B7: =IF(ISNA(VLOOKUP(G7,N$4:O$23,2,FALSE))," ",VLOOKUP(G7,N$4:O$23,2,FALSE)) | N7: (4) Monitoring biodiverzity - bodové objekty | O7: ks
B8: =IF(ISNA(VLOOKUP(G8,N$4:O$23,2,FALSE))," ",VLOOKUP(G8,N$4:O$23,2,FALSE)) | N8: (5) Počet vysazených / ošetřených stromů nebo keřů | O8: ks
B9: =IF(ISNA(VLOOKUP(G9,N$4:O$23,2,FALSE))," ",VLOOKUP(G9,N$4:O$23,2,FALSE)) | N9: (6) Počet odborných / zpravodajských článků | O9: ks
B10: =IF(ISNA(VLOOKUP(G10,N$4:O$23,2,FALSE))," ",VLOOKUP(G10,N$4:O$23,2,FALSE)) | N10: (7a) Počet akcí pro odbornou / širokou veřejnost / specifické cílové skupiny/participativní akce | O10: ks
B11: =IF(ISNA(VLOOKUP(G11,N$4:O$23,2,FALSE))," ",VLOOKUP(G11,N$4:O$23,2,FALSE)) | N11: (7b) Dosah akcí pro odbornou / širokou veřejnost / specifické cílové skupiny/participativní akce | O11: účastníků
B12: =IF(ISNA(VLOOKUP(G12,N$4:O$23,2,FALSE))," ",VLOOKUP(G12,N$4:O$23,2,FALSE)) | N12: (8a) Počet příspěvků publikovaných na sociálních sítích | O12: ks
B13: =IF(ISNA(VLOOKUP(G13,N$4:O$23,2,FALSE))," ",VLOOKUP(G13,N$4:O$23,2,FALSE)) | N13: (8b) Dopad příspěvků publikovaných na sociálních sítích | O13: zhlédnutí
B14: =IF(ISNA(VLOOKUP(G14,N$4:O$23,2,FALSE))," ",VLOOKUP(G14,N$4:O$23,2,FALSE)) | N14: (9) Počet poradenských případů, konzultací | O14: případů
B15: =IF(ISNA(VLOOKUP(G15,N$4:O$23,2,FALSE))," ",VLOOKUP(G15,N$4:O$23,2,FALSE)) | N15: (10a) Počet ekologických výukových programů | O15: programů
... B23: =IF(ISNA(VLOOKUP(G23,N$4:O$23,2,FALSE))," ",VLOOKUP(G23,N$4:O$23,2,FALSE)) | N23: (15) Rozšíření plochy pozemkových spolků | O23: ha
B24: =IF(ISNA(VLOOKUP(G24,N$4:O$23,2,FALSE))," ",VLOOKUP(G24,N$4:O$23,2,FALSE))
B25: =IF(ISNA(VLOOKUP(G25,N$4:O$23,2,FALSE))," ",VLOOKUP(G25,N$4:O$23,2,FALSE))
B26: =IF(ISNA(VLOOKUP(G26,N$4:O$23,2,FALSE))," ",VLOOKUP(G26,N$4:O$23,2,FALSE))
B27: =IF(ISNA(VLOOKUP(G27,N$4:O$23,2,FALSE))," ",VLOOKUP(G27,N$4:O$23,2,FALSE))
B28: =IF(ISNA(VLOOKUP(G28,N$4:O$23,2,FALSE))," ",VLOOKUP(G28,N$4:O$23,2,FALSE))
B29: =IF(ISNA(VLOOKUP(G29,N$4:O$23,2,FALSE))," ",VLOOKUP(G29,N$4:O$23,2,FALSE))
B30: =IF(ISNA(VLOOKUP(G30,N$4:O$23,2,FALSE))," ",VLOOKUP(G30,N$4:O$23,2,FALSE))

Sheet DB_DT
A1: cpr | B1: cjx | C1: téma | D1: DT | E1: CZK
A2: 1/32/20 | B2: 1/32/20 (MZP/2019/320/1155) | C2: 11. Rozvoj dobrovolnictví v ochraně přírody a krajiny | D2: Environmenální vzdělávání, výchova a osvěta | E2: 0
A3: 10/32/20 | B3: 10/32/20 (MZP/2019/320/1166) | C3: 06. Odpady | D3: Životní prostředí a vlivy na lidské zdraví | E3: 0
A4: 100/32/20 | B4: 100/32/20 (MZP/2019/320/1270) | C4: 07. Adaptační opatření na změnu klimatu a mitigační opatření na místní i národní úrovni | D4: Adapace na klimatickou změnu | E4: 0
A5: 101/32/20 | B5: 101/32/20 (MZP/2019/320/1273) | C5: 07. Adaptační opatření na změnu klimatu a mitigační opatření na místní i národní úrovni | D5: Adapace na klimatickou změnu | E5: 250000
A6: 102/32/20 | B6: 102/32/20 (MZP/2019/320/1274) | C6: 08. Environmentálně odpovědá spotřeba, udržitelné využívání zdrojů | D6: Adapace na klimatickou změnu | E6: 0
A7: 103/32/20 | B7: 103/32/20 (MZP/2019/320/1275) | C7: 10. Podpora propojování EVVO se sociální oblastí | D7: Environmenální vzdělávání, výchova a osvěta | E7: 0
A8: 104/32/20 | B8: 104/32/20 (MZP/2019/320/1276) | C8: 04. Kvalita a ochrana vod | D8: Životní prostředí a vlivy na lidské zdraví | E8: 0
A9: 105/32/20 | B9: 105/32/20 (MZP/2019/320/1277) | C9: 09. Inovativní programy EVVO | D9: Environmenální vzdělávání, výchova a osvěta | E9: 0
A10: 106/32/20 | B10: 106/32/20 (MZP/2019/320/1278) | C10: 08. Environmentálně odpovědá spotřeba, udržitelné využívání zdrojů | D10: Adapace na klimatickou změnu | E10: 0
A11: 107/32/20 | B11: 107/32/20 (MZP/2019/320/1280) | C11: 06. Odpady | D11: Životní prostředí a vlivy na lidské zdraví | E11: 250000
A12: 108/32/20 | B12: 108/32/20 (MZP/2019/320/1281) | C12: 10. Podpora propojování EVVO se sociální oblastí | D12: Environmenální vzdělávání, výchova a osvěta | E12: 248000
A13: 109/32/20 | B13: 109/32/20 (MZP/2019/320/1282) | C13: 08. Environmentálně odpovědá spotřeba, udržitelné využívání zdrojů | D13: Adapace na klimatickou změnu | E13: 0
... A61: 30/32/20 | B61: 30/32/20 (MZP/2019/320/1191) | C61: 07. Adaptační opatření na změnu klimatu a mitigační opatření na místní i národní úrovni | D61: Adapace na klimatickou změnu | E61: 0
A62: #VALUE! | B62: 301/32/20 | D62: Podpora environmentálního vzdělávání, výchovy a osvěty, environmentálního poradenství a jejich aktérů v České republice. | E62: 1499632
A63: 31/32/20 | B63: 31/32/20 (MZP/2019/320/1192) | D63: Dobrovolníkem pro přírodu | E63: 0
A64: 32/32/20 | B64: 32/32/20 (MZP/2019/320/1193) | D64: Krajina sadů | E64: 248500
A65: 33/32/20 | B65: 33/32/20 (MZP/2019/320/1194) | D65: Po nás potopa? | E65: 0
A66: 34/32/20 | B66: 34/32/20 (MZP/2019/320/1195) | D66: Zažít město jinak 2020 | E66: 0
A67: 35/32/20 | B67: 35/32/20 (MZP/2019/320/1196) | D67: Zelené kilometry 2020 | E67: 0
A68: 36/32/20 | B68: 36/32/20 (MZP/2019/320/1197) | D68: Vizuální průvodce udržitelným rozvojem a mobilitou | E68: 0
A69: 37/32/20 | B69: 37/32/20 (MZP/2019/320/1198) | D69: Klimatické zpravodajství na serveru Ekolist.cz – informační servis (nejen) pro města a obce | E69: 0
A70: 38/32/20 | B70: 38/32/20 (MZP/2019/320/1199) | D70: Osvětové akce s živými zvířaty nejen o netopýrech pro seniory | E70: 0
A71: 39/32/20 | B71: 39/32/20 (MZP/2019/320/1200) | D71: Příběhy, které mění svět - společně s učiteli a žáky pro šetrnější spotřebu a klima | E71: 0
A72: 4/32/20 | B72: 4/32/20 (MZP/2019/320/1158 ) | D72: Prevence vzniku odpadů – Trash Hero | E72: 173460
A73: 40/32/20 | B73: 40/32/20 (MZP/2019/320/1201) | D73: Učíme se reagovat na změnu klimatu III ve své obci | E73: 230000
... A137: 99/32/20 | B137: 99/32/20 (MZP/2019/320/1266) | D137: 5P - Pilotní Programy s Praktickou Prací pro Přírodu | E137: 191097

Sheet Seznam dokladů
A1: Rozhodnutí č. | C1: =+'Úvodní list'!C1 -> 0 | M1: 1.1.-Zaměstnanci - mzdové náklady zaměstnavatele včetně zákonných odvodů
M2: 1.2.-Ostatní osobní náklady (DPP)
A3: Datum dokladu v peněžním deníku | B3: Číslo položky v peněžním deníku | C3: Platba za co - účel | D3: Částka hrazená z dotace | E3: Částka hrazená z kofinancování | F3: Způsob úhrady dokladu | G3: Položka rozpočtu | M3: 2.1.-Cestovné
M4: 2.2-Provoz služebního vozidla
M5: 3.1.-Materiálové náklady (spotřební materiál atp.)
M6: 3.2.-Materiál
M7: 4.1.-Drobný dlouhodobý majetek
M8: 4.2.-Drobný dlouhodobý majetek
M9: 4.3.-Drobný dlouhodobý majetek
M10: 4.4.-Drobný dlouhodobý majetek
M11: 5.1.-Účetní služby
M12: 5.2.-Konzultační, poradenské a právní služby
M13: 5.3.-Údržba a aktualizace webových stránek, zpracování dat
M14: 5.4.-Grafické práce, předtisková úprava
M15: 5.5.-Tisk
... M30: Kofinancování dobrovolnickou prací
H397: =IF(AND(G397="Kofinancování dobrovolnickou prací",D397>0),"Dobrovolnickou práci je možné využít pouze pro kofinancování","")
H398: =IF(AND(G398="Kofinancování dobrovolnickou prací",D398>0),"Dobrovolnickou práci je možné využít pouze pro kofinancování","")
H399: =IF(AND(G399="Kofinancování dobrovolnickou prací",D399>0),"Dobrovolnickou práci je možné využít pouze pro kofinancování","")
H400: =IF(AND(G400="Kofinancování dobrovolnickou prací",D400>0),"Dobrovolnickou práci je možné využít pouze pro kofinancování","")
H401: =IF(AND(G401="Kofinancování dobrovolnickou prací",D401>0),"Dobrovolnickou práci je možné využít pouze pro kofinancování","")
H402: =IF(AND(G402="Kofinancování dobrovolnickou prací",D402>0),"Dobrovolnickou práci je možné využít pouze pro kofinancování","")
H403: =IF(AND(G403="Kofinancování dobrovolnickou prací",D403>0),"Dobrovolnickou práci je možné využít pouze pro kofinancování","")
H404: =IF(AND(G404="Kofinancování dobrovolnickou prací",D404>0),"Dobrovolnickou práci je možné využít pouze pro kofinancování","")
H405: =IF(AND(G405="Kofinancování dobrovolnickou prací",D405>0),"Dobrovolnickou práci je možné využít pouze pro kofinancování","")
H406: =IF(AND(G406="Kofinancování dobrovolnickou prací",D406>0),"Dobrovolnickou práci je možné využít pouze pro kofinancování","")
H407: =IF(AND(G407="Kofinancování dobrovolnickou prací",D407>0),"Dobrovolnickou práci je možné využít pouze pro kofinancování","")
H408: =IF(AND(G408="Kofinancování dobrovolnickou prací",D408>0),"Dobrovolnickou práci je možné využít pouze pro kofinancování","")
... H500: =IF(AND(G500="Kofinancování dobrovolnickou prací",D500>0),"Dobrovolnickou práci je možné využít pouze pro kofinancování","")
